Workbook

Sheet Disclaimer
A2: Disclaimer:
A3: Das Ziel dieser Datensammlung ist es, die Kommunen in der datenbasierten Erstellung von integrierten Mobilitätsplänen zu unterstützen. Die genannten Datenquellen können dabei helfen, die Status quo-Analyse durchzuführen, sinnvolle Leitziele zu setzen, Eingangsdaten für das Verkehrsmodell aufzubereiten oder messbare Indikatoren festzulegen. In der vorliegenden ersten Version wurden hauptsächlich öffentlich zugängliche Datenquellen gesammelt. Diese Liste ist unvollständig und wird immer unvollständig bleiben. Sollten Ihnen wichtige und hilfreiche Daten, Datenquellen oder Datengeber fehlen, dann melden Sie sich gerne bei uns und wir werden eine Aufnahme in die Liste prüfen. Die Nutzung dieser Datenquellen bei der Erstellung des Klimamobilitätsplan ist freiwillig.
A7: Stand: 21.05.2026 (v1.0)

Sheet Datenquellen
C1: =Disclaimer!$A$7 -> Stand: 21.05.2026 (v1.0)
A2: Datenquelle | B2: Abkürzung | C2: Webseite | D2: Berichte | E2: Datenarten
A3: Bundesagentur für Arbeit | B3: BA | C3: https://statistik.arbeitsagentur.de | D3: - | E3: Pendlerdaten
A4: Bundesanstalt für Straßen- und Verkehrswesen | B4: BaSt | C4: https://www.bast.de | D4: - | E4: Zähldaten
A5: Bundesministerium für Verkehr | B5: Regionalstatistische Raumtypologie (RegioStaR) | C5: https://www.bmv.de/DE/Home/home.html | D5: - | E5: Emissionen, Fahrleistung, Karten, Unfalldaten
A6: Bundesministerium für Verkehr | B6: BMV | C6: https://www.bmv.de/SharedDocs/ | D6: RegioStar Raumypologien, Verkehr in Zahlen (ViZ) | E6: Emissionen, Fahrleistung, Karten, Unfalldaten
A7: KEA Klimaschutz- und Energieagentur Baden-Württemberg GmbH | B7: KEA-BW | C7: https://www.kea-bw.de/ | D7: Statusbericht Nachhaltige Mobilität | E7: Emissionen, Fahrleistung, Immissionen, Ladeinfrastruktur, Modal Split, Parken, Sharing, Unfalldaten, Zulassungsdaten
A8: Klimadashboard | B8: - | C8: https://klimadashboard.de/ | D8: - | E8: Emissionen
A9: Kraftfahrtbundesamt | B9: KBA | C9: https://www.kba.de | D9: - | E9: Zulassungsdaten
A10: Landesanstalt für Umwelt Baden-Württemberg | B10: LUBW | C10: https://www.lubw.baden-wuerttemberg.de | D10: - | E10: Beförderungsleistung, Fahrleistung, Immissionen, Zähldaten, Zulassungsdaten
A11: Landesverkehrsmodell Baden-Württemberg | B11: LVM-BW | C11: https://vm.baden-wuerttemberg.de/de/politik-zukunft/zukunftskonzepte/digitale-mobilitaet/landesverkehrsmodell-baden-wuerttemberg | D11: - | E11: Fahrleistung, Modal Split
A12: Ministerium des Inneren, für Digitalisierung und Kommunen Baden-Württemberg | B12: IM BW | C12: https://www.daten-bw.de/ | D12: - | E12: Ladeinfrastruktur, Sonstige
A13: Ministerium für Verkehr Baden-Württemberg | B13: VM BW | C13: https://vm.baden-wuerttemberg.de/ | D13: Klimamobilitätsmonitor | E13: Klimaziele
... A25: Umweltbundesamt | B25: UBA | C25: https://www.umweltbundesamt.de/ | D25: - | E25: Immissionen

Sheet Daten
C1: =Disclaimer!$A$7 -> Stand: 21.05.2026 (v1.0)
G2: Nutzung
A3: Datenart | B3: Untergruppe | C3: Webseite | D3: Datenquelle | E3: Abkürzung | F3: Info | G3: Status quo-Analyse | H3: Leitziele | I3: Eingangsdaten Verkehrsmodell | J3: Kalibrierung Verkehrsmodell | K3: Monitoring
A4: Baustellen | B4: - | C4: https://www.verkehrsinfo-bw.de/ | D4: Straßenverkehrszentrale BW | E4: VM BW | G4: =IF(VLOOKUP($A4,Namen!$B$1:$G$18,2,0)="x","x","") | H4: =IF(VLOOKUP($A4,Namen!$B$1:$G$18,3,0)="x","x","") | I4: =IF(VLOOKUP($A4,Namen!$B$1:$G$18,4,0)="x","x","") -> x | J4: =IF(VLOOKUP($A4,Namen!$B$1:$G$18,5,0)="x","x","") | K4: =IF(VLOOKUP($A4,Namen!$B$1:$G$18,6,0)="x","x","")
A5: Beförderungsleistung | B5: Beförderungsleistung | C5: https://umweltportal.baden-wuerttemberg.de/de/umweltdaten | D5: Landesanstalt für Umwelt Baden-Württemberg | E5: LUBW | G5: =IF(VLOOKUP($A5,Namen!$B$1:$G$18,2,0)="x","x","") -> x | H5: =IF(VLOOKUP($A5,Namen!$B$1:$G$18,3,0)="x","x","") -> x | I5: =IF(VLOOKUP($A5,Namen!$B$1:$G$18,4,0)="x","x","") -> x | J5: =IF(VLOOKUP($A5,Namen!$B$1:$G$18,5,0)="x","x","") -> x | K5: =IF(VLOOKUP($A5,Namen!$B$1:$G$18,6,0)="x","x","") -> x
A6: Emissionen | B6: CO2 | C6: https://www.bmv.de/SharedDocs/DE/Artikel/G/verkehr-in-zahlen.html | D6: Bundesministerium für Verkehr | E6: BMV | G6: =IF(VLOOKUP($A6,Namen!$B$1:$G$18,2,0)="x","x","") -> x | H6: =IF(VLOOKUP($A6,Namen!$B$1:$G$18,3,0)="x","x","") -> x | I6: =IF(VLOOKUP($A6,Namen!$B$1:$G$18,4,0)="x","x","") | J6: =IF(VLOOKUP($A6,Namen!$B$1:$G$18,5,0)="x","x","") | K6: =IF(VLOOKUP($A6,Namen!$B$1:$G$18,6,0)="x","x","") -> x
A7: Emissionen | B7: CO2 | C7: https://www.kea-bw.de/nachhaltige-mobilitaet/wissensportal/statusbericht-nachhaltige-mobilitaet/co2-emissionen-miv | D7: KEA Klimaschutz- und Energieagentur Baden-Württemberg GmbH | E7: KEA-BW | G7: =IF(VLOOKUP($A7,Namen!$B$1:$G$18,2,0)="x","x","") -> x | H7: =IF(VLOOKUP($A7,Namen!$B$1:$G$18,3,0)="x","x","") -> x | I7: =IF(VLOOKUP($A7,Namen!$B$1:$G$18,4,0)="x","x","") | J7: =IF(VLOOKUP($A7,Namen!$B$1:$G$18,5,0)="x","x","") | K7: =IF(VLOOKUP($A7,Namen!$B$1:$G$18,6,0)="x","x","") -> x
A8: Emissionen | B8: CO2 | C8: https://www.kea-bw.de/nachhaltige-mobilitaet/wissensportal/statusbericht-nachhaltige-mobilitaet/gueterverkehr | D8: KEA Klimaschutz- und Energieagentur Baden-Württemberg GmbH | E8: KEA-BW | G8: =IF(VLOOKUP($A8,Namen!$B$1:$G$18,2,0)="x","x","") -> x | H8: =IF(VLOOKUP($A8,Namen!$B$1:$G$18,3,0)="x","x","") -> x | I8: =IF(VLOOKUP($A8,Namen!$B$1:$G$18,4,0)="x","x","") | J8: =IF(VLOOKUP($A8,Namen!$B$1:$G$18,5,0)="x","x","") | K8: =IF(VLOOKUP($A8,Namen!$B$1:$G$18,6,0)="x","x","") -> x
A9: Emissionen | B9: CO2 | C9: https://klimadashboard.de/ | D9: Klimadashboard | E9: - | G9: =IF(VLOOKUP($A9,Namen!$B$1:$G$18,2,0)="x","x","") -> x | H9: =IF(VLOOKUP($A9,Namen!$B$1:$G$18,3,0)="x","x","") -> x | I9: =IF(VLOOKUP($A9,Namen!$B$1:$G$18,4,0)="x","x","") | J9: =IF(VLOOKUP($A9,Namen!$B$1:$G$18,5,0)="x","x","") | K9: =IF(VLOOKUP($A9,Namen!$B$1:$G$18,6,0)="x","x","") -> x
A10: Emissionen | B10: CO2 | C10: https://www.statistik-bw.de/ | D10: Statistisches Landesamt Baden-Württemberg | E10: StaLa | G10: =IF(VLOOKUP($A10,Namen!$B$1:$G$18,2,0)="x","x","") -> x | H10: =IF(VLOOKUP($A10,Namen!$B$1:$G$18,3,0)="x","x","") -> x | I10: =IF(VLOOKUP($A10,Namen!$B$1:$G$18,4,0)="x","x","") | J10: =IF(VLOOKUP($A10,Namen!$B$1:$G$18,5,0)="x","x","") | K10: =IF(VLOOKUP($A10,Namen!$B$1:$G$18,6,0)="x","x","") -> x
A11: Fahrleistung | B11: Fuß | C11: https://www.kea-bw.de/nachhaltige-mobilitaet/wissensportal/statusbericht-nachhaltige-mobilitaet/fussverkehr | D11: KEA Klimaschutz- und Energieagentur Baden-Württemberg GmbH | E11: KEA-BW | G11: =IF(VLOOKUP($A11,Namen!$B$1:$G$18,2,0)="x","x","") -> x | H11: =IF(VLOOKUP($A11,Namen!$B$1:$G$18,3,0)="x","x","") -> x | I11: =IF(VLOOKUP($A11,Namen!$B$1:$G$18,4,0)="x","x","") -> x | J11: =IF(VLOOKUP($A11,Namen!$B$1:$G$18,5,0)="x","x","") -> x | K11: =IF(VLOOKUP($A11,Namen!$B$1:$G$18,6,0)="x","x","") -> x
A12: Fahrleistung | B12: MIV | C12: https://www.bmv.de/SharedDocs/DE/Artikel/G/verkehr-in-zahlen.html | D12: Bundesministerium für Verkehr | E12: BMV | G12: =IF(VLOOKUP($A12,Namen!$B$1:$G$18,2,0)="x","x","") -> x | H12: =IF(VLOOKUP($A12,Namen!$B$1:$G$18,3,0)="x","x","") -> x | I12: =IF(VLOOKUP($A12,Namen!$B$1:$G$18,4,0)="x","x","") -> x | J12: =IF(VLOOKUP($A12,Namen!$B$1:$G$18,5,0)="x","x","") -> x | K12: =IF(VLOOKUP($A12,Namen!$B$1:$G$18,6,0)="x","x","") -> x
A13: Fahrleistung | B13: MIV | C13: https://vm.baden-wuerttemberg.de/de/politik-zukunft/zukunftskonzepte/digitale-mobilitaet/landesverkehrsmodell-baden-wuerttemberg | D13: Landesverkehrsmodell Baden-Württemberg | E13: LVM-BW | G13: =IF(VLOOKUP($A13,Namen!$B$1:$G$18,2,0)="x","x","") -> x | H13: =IF(VLOOKUP($A13,Namen!$B$1:$G$18,3,0)="x","x","") -> x | I13: =IF(VLOOKUP($A13,Namen!$B$1:$G$18,4,0)="x","x","") -> x | J13: =IF(VLOOKUP($A13,Namen!$B$1:$G$18,5,0)="x","x","") -> x | K13: =IF(VLOOKUP($A13,Namen!$B$1:$G$18,6,0)="x","x","") -> x
A14: Fahrleistung | B14: MIV | C14: https://www.statistik-bw.de/ | D14: Statistisches Landesamt Baden-Württemberg | E14: StaLa | G14: =IF(VLOOKUP($A14,Namen!$B$1:$G$18,2,0)="x","x","") -> x | H14: =IF(VLOOKUP($A14,Namen!$B$1:$G$18,3,0)="x","x","") -> x | I14: =IF(VLOOKUP($A14,Namen!$B$1:$G$18,4,0)="x","x","") -> x | J14: =IF(VLOOKUP($A14,Namen!$B$1:$G$18,5,0)="x","x","") -> x | K14: =IF(VLOOKUP($A14,Namen!$B$1:$G$18,6,0)="x","x","") -> x
A15: Fahrleistung | B15: ÖPNV | C15: https://www.mobidata-bw.de/ | D15: MobiDataBW | E15: MobiDataBW | G15: =IF(VLOOKUP($A15,Namen!$B$1:$G$18,2,0)="x","x","") -> x | H15: =IF(VLOOKUP($A15,Namen!$B$1:$G$18,3,0)="x","x","") -> x | I15: =IF(VLOOKUP($A15,Namen!$B$1:$G$18,4,0)="x","x","") -> x | J15: =IF(VLOOKUP($A15,Namen!$B$1:$G$18,5,0)="x","x","") -> x | K15: =IF(VLOOKUP($A15,Namen!$B$1:$G$18,6,0)="x","x","") -> x
... A23: Immissionen | B23: Luftqualität | C23: https://www.umweltbundesamt.de/ | D23: Umweltbundesamt | E23: UBA | G23: =IF(VLOOKUP($A23,Namen!$B$1:$G$18,2,0)="x","x","") -> x | H23: =IF(VLOOKUP($A23,Namen!$B$1:$G$18,3,0)="x","x","") -> x | I23: =IF(VLOOKUP($A23,Namen!$B$1:$G$18,4,0)="x","x","") | J23: =IF(VLOOKUP($A23,Namen!$B$1:$G$18,5,0)="x","x","") | K23: =IF(VLOOKUP($A23,Namen!$B$1:$G$18,6,0)="x","x","") -> x
A24: Karten | B24: Rad | C24: https://www.mobidata-bw.de/ | D24: MobiDataBW | E24: MobiDataBW | F24: RadnetzBW | G24: =IF(VLOOKUP($A24,Namen!$B$1:$G$18,2,0)="x","x","") -> x | H24: =IF(VLOOKUP($A24,Namen!$B$1:$G$18,3,0)="x","x","") | I24: =IF(VLOOKUP($A24,Namen!$B$1:$G$18,4,0)="x","x","") -> x | J24: =IF(VLOOKUP($A24,Namen!$B$1:$G$18,5,0)="x","x","") | K24: =IF(VLOOKUP($A24,Namen!$B$1:$G$18,6,0)="x","x","")
A25: Karten | B25: Raumtypologien | C25: https://www.bmv.de/SharedDocs/DE/Artikel/G/regionalstatistische-raumtypologie.html | D25: Bundesministerium für Verkehr | E25: BMV | G25: =IF(VLOOKUP($A25,Namen!$B$1:$G$18,2,0)="x","x","") -> x | H25: =IF(VLOOKUP($A25,Namen!$B$1:$G$18,3,0)="x","x","") | I25: =IF(VLOOKUP($A25,Namen!$B$1:$G$18,4,0)="x","x","") -> x | J25: =IF(VLOOKUP($A25,Namen!$B$1:$G$18,5,0)="x","x","") | K25: =IF(VLOOKUP($A25,Namen!$B$1:$G$18,6,0)="x","x","")
A26: Karten | B26: Straßenkarten | C26: https://www.openstreetmap.de/ | D26: OpenStreetMaps | E26: OSM | G26: =IF(VLOOKUP($A26,Namen!$B$1:$G$18,2,0)="x","x","") -> x | H26: =IF(VLOOKUP($A26,Namen!$B$1:$G$18,3,0)="x","x","") | I26: =IF(VLOOKUP($A26,Namen!$B$1:$G$18,4,0)="x","x","") -> x | J26: =IF(VLOOKUP($A26,Namen!$B$1:$G$18,5,0)="x","x","") | K26: =IF(VLOOKUP($A26,Namen!$B$1:$G$18,6,0)="x","x","")
A27: Klimaziele | B27: - | C27: https://vm.baden-wuerttemberg.de/de/politik-zukunft/nachhaltige-mobilitaet/klimamobilitaetsmonitor | D27: Ministerium für Verkehr Baden-Württemberg | E27: VM BW | G27: =IF(VLOOKUP($A27,Namen!$B$1:$G$18,2,0)="x","x","") -> x | H27: =IF(VLOOKUP($A27,Namen!$B$1:$G$18,3,0)="x","x","") -> x | I27: =IF(VLOOKUP($A27,Namen!$B$1:$G$18,4,0)="x","x","") | J27: =IF(VLOOKUP($A27,Namen!$B$1:$G$18,5,0)="x","x","") | K27: =IF(VLOOKUP($A27,Namen!$B$1:$G$18,6,0)="x","x","") -> x
A28: Ladeinfrastruktur | B28: - | C28: https://www.kea-bw.de/nachhaltige-mobilitaet/wissensportal/statusbericht-nachhaltige-mobilitaet/ladeinfrastruktur | D28: KEA Klimaschutz- und Energieagentur Baden-Württemberg GmbH | E28: KEA-BW | G28: =IF(VLOOKUP($A28,Namen!$B$1:$G$18,2,0)="x","x","") -> x | H28: =IF(VLOOKUP($A28,Namen!$B$1:$G$18,3,0)="x","x","") | I28: =IF(VLOOKUP($A28,Namen!$B$1:$G$18,4,0)="x","x","") | J28: =IF(VLOOKUP($A28,Namen!$B$1:$G$18,5,0)="x","x","") | K28: =IF(VLOOKUP($A28,Namen!$B$1:$G$18,6,0)="x","x","") -> x
A29: Ladeinfrastruktur | B29: - | C29: https://www.daten-bw.de/ | D29: Ministerium des Inneren, für Digitalisierung und Kommunen Baden-Württemberg | E29: IM BW | G29: =IF(VLOOKUP($A29,Namen!$B$1:$G$18,2,0)="x","x","") -> x | H29: =IF(VLOOKUP($A29,Namen!$B$1:$G$18,3,0)="x","x","") | I29: =IF(VLOOKUP($A29,Namen!$B$1:$G$18,4,0)="x","x","") | J29: =IF(VLOOKUP($A29,Namen!$B$1:$G$18,5,0)="x","x","") | K29: =IF(VLOOKUP($A29,Namen!$B$1:$G$18,6,0)="x","x","") -> x
A30: Ladeinfrastruktur | B30: - | C30: https://www.mobidata-bw.de/ | D30: MobiDataBW | E30: MobiDataBW | G30: =IF(VLOOKUP($A30,Namen!$B$1:$G$18,2,0)="x","x","") -> x | H30: =IF(VLOOKUP($A30,Namen!$B$1:$G$18,3,0)="x","x","") | I30: =IF(VLOOKUP($A30,Namen!$B$1:$G$18,4,0)="x","x","") | J30: =IF(VLOOKUP($A30,Namen!$B$1:$G$18,5,0)="x","x","") | K30: =IF(VLOOKUP($A30,Namen!$B$1:$G$18,6,0)="x","x","") -> x
A31: Modal Split | B31: - | C31: https://www.kea-bw.de/nachhaltige-mobilitaet/wissensportal/statusbericht-nachhaltige-mobilitaet/modal-split | D31: KEA Klimaschutz- und Energieagentur Baden-Württemberg GmbH | E31: KEA-BW | G31: =IF(VLOOKUP($A31,Namen!$B$1:$G$18,2,0)="x","x","") -> x | H31: =IF(VLOOKUP($A31,Namen!$B$1:$G$18,3,0)="x","x","") -> x | I31: =IF(VLOOKUP($A31,Namen!$B$1:$G$18,4,0)="x","x","") -> x | J31: =IF(VLOOKUP($A31,Namen!$B$1:$G$18,5,0)="x","x","") -> x | K31: =IF(VLOOKUP($A31,Namen!$B$1:$G$18,6,0)="x","x","") -> x
A32: Modal Split | B32: - | C32: https://vm.baden-wuerttemberg.de/de/politik-zukunft/zukunftskonzepte/digitale-mobilitaet/landesverkehrsmodell-baden-wuerttemberg | D32: Landesverkehrsmodell Baden-Württemberg | E32: LVM-BW | G32: =IF(VLOOKUP($A32,Namen!$B$1:$G$18,2,0)="x","x","") -> x | H32: =IF(VLOOKUP($A32,Namen!$B$1:$G$18,3,0)="x","x","") -> x | I32: =IF(VLOOKUP($A32,Namen!$B$1:$G$18,4,0)="x","x","") -> x | J32: =IF(VLOOKUP($A32,Namen!$B$1:$G$18,5,0)="x","x","") -> x | K32: =IF(VLOOKUP($A32,Namen!$B$1:$G$18,6,0)="x","x","") -> x
A33: Modal Split | B33: - | C33: https://www.mobilitaet-in-deutschland.de/ | D33: Mobilität in Deutschland | E33: MiD | G33: =IF(VLOOKUP($A33,Namen!$B$1:$G$18,2,0)="x","x","") -> x | H33: =IF(VLOOKUP($A33,Namen!$B$1:$G$18,3,0)="x","x","") -> x | I33: =IF(VLOOKUP($A33,Namen!$B$1:$G$18,4,0)="x","x","") -> x | J33: =IF(VLOOKUP($A33,Namen!$B$1:$G$18,5,0)="x","x","") -> x | K33: =IF(VLOOKUP($A33,Namen!$B$1:$G$18,6,0)="x","x","") -> x
A34: Modal Split | B34: - | C34: https://tu-dresden.de/bu/verkehr/ivs/srv | D34: Mobilität in Städten | E34: SrV | G34: =IF(VLOOKUP($A34,Namen!$B$1:$G$18,2,0)="x","x","") -> x | H34: =IF(VLOOKUP($A34,Namen!$B$1:$G$18,3,0)="x","x","") -> x | I34: =IF(VLOOKUP($A34,Namen!$B$1:$G$18,4,0)="x","x","") -> x | J34: =IF(VLOOKUP($A34,Namen!$B$1:$G$18,5,0)="x","x","") -> x | K34: =IF(VLOOKUP($A34,Namen!$B$1:$G$18,6,0)="x","x","") -> x
A35: Modal Split | B35: - | C35: https://mobilitaet-in-tabellen-2023.bast.de/ | D35: Mobilität in Tabellen | E35: MiT | G35: =IF(VLOOKUP($A35,Namen!$B$1:$G$18,2,0)="x","x","") -> x | H35: =IF(VLOOKUP($A35,Namen!$B$1:$G$18,3,0)="x","x","") -> x | I35: =IF(VLOOKUP($A35,Namen!$B$1:$G$18,4,0)="x","x","") -> x | J35: =IF(VLOOKUP($A35,Namen!$B$1:$G$18,5,0)="x","x","") -> x | K35: =IF(VLOOKUP($A35,Namen!$B$1:$G$18,6,0)="x","x","") -> x
A36: Parken | B36: Bewohnerparken | C36: https://www.kea-bw.de/nachhaltige-mobilitaet/wissensportal/statusbericht-nachhaltige-mobilitaet/bewohnerparken | D36: KEA Klimaschutz- und Energieagentur Baden-Württemberg GmbH | E36: KEA-BW | G36: =IF(VLOOKUP($A36,Namen!$B$1:$G$18,2,0)="x","x","") -> x | H36: =IF(VLOOKUP($A36,Namen!$B$1:$G$18,3,0)="x","x","") | I36: =IF(VLOOKUP($A36,Namen!$B$1:$G$18,4,0)="x","x","") -> x | J36: =IF(VLOOKUP($A36,Namen!$B$1:$G$18,5,0)="x","x","") | K36: =IF(VLOOKUP($A36,Namen!$B$1:$G$18,6,0)="x","x","")
... A39: Parken | B39: Parkplätze | C39: https://www.verkehrsinfo-bw.de/ | D39: Straßenverkehrszentrale BW | E39: VM BW | G39: =IF(VLOOKUP($A39,Namen!$B$1:$G$18,2,0)="x","x","") -> x | H39: =IF(VLOOKUP($A39,Namen!$B$1:$G$18,3,0)="x","x","") | I39: =IF(VLOOKUP($A39,Namen!$B$1:$G$18,4,0)="x","x","") -> x | J39: =IF(VLOOKUP($A39,Namen!$B$1:$G$18,5,0)="x","x","") | K39: =IF(VLOOKUP($A39,Namen!$B$1:$G$18,6,0)="x","x","")
A40: Parken | B40: Rad | C40: https://www.mobidata-bw.de/ | D40: MobiDataBW | E40: MobiDataBW | F40: Radabstellanlagen | G40: =IF(VLOOKUP($A40,Namen!$B$1:$G$18,2,0)="x","x","") -> x | H40: =IF(VLOOKUP($A40,Namen!$B$1:$G$18,3,0)="x","x","") | I40: =IF(VLOOKUP($A40,Namen!$B$1:$G$18,4,0)="x","x","") -> x | J40: =IF(VLOOKUP($A40,Namen!$B$1:$G$18,5,0)="x","x","") | K40: =IF(VLOOKUP($A40,Namen!$B$1:$G$18,6,0)="x","x","")
A41: Pendlerdaten | B41: - | C41: https://statistik.arbeitsagentur.de/DE/Navigation/Statistiken/Interaktive-Statistiken/Pendleratlas/Pendleratlas-Nav.html | D41: Bundesagentur für Arbeit | E41: BA | G41: =IF(VLOOKUP($A41,Namen!$B$1:$G$18,2,0)="x","x","") -> x | H41: =IF(VLOOKUP($A41,Namen!$B$1:$G$18,3,0)="x","x","") | I41: =IF(VLOOKUP($A41,Namen!$B$1:$G$18,4,0)="x","x","") -> x | J41: =IF(VLOOKUP($A41,Namen!$B$1:$G$18,5,0)="x","x","") -> x | K41: =IF(VLOOKUP($A41,Namen!$B$1:$G$18,6,0)="x","x","")
A42: Pendlerdaten | B42: - | C42: https://pendleratlas.de/ | D42: Pendleratlas | E42: - | G42: =IF(VLOOKUP($A42,Namen!$B$1:$G$18,2,0)="x","x","") -> x | H42: =IF(VLOOKUP($A42,Namen!$B$1:$G$18,3,0)="x","x","") | I42: =IF(VLOOKUP($A42,Namen!$B$1:$G$18,4,0)="x","x","") -> x | J42: =IF(VLOOKUP($A42,Namen!$B$1:$G$18,5,0)="x","x","") -> x | K42: =IF(VLOOKUP($A42,Namen!$B$1:$G$18,6,0)="x","x","")
A43: Pendlerdaten | B43: - | C43: https://pendleratlas.statistikportal.de/ | D43: Statistische Ämter des Bundes und der Länder | E43: Destatis | G43: =IF(VLOOKUP($A43,Namen!$B$1:$G$18,2,0)="x","x","") -> x | H43: =IF(VLOOKUP($A43,Namen!$B$1:$G$18,3,0)="x","x","") | I43: =IF(VLOOKUP($A43,Namen!$B$1:$G$18,4,0)="x","x","") -> x | J43: =IF(VLOOKUP($A43,Namen!$B$1:$G$18,5,0)="x","x","") -> x | K43: =IF(VLOOKUP($A43,Namen!$B$1:$G$18,6,0)="x","x","")
A44: Sharing | B44: - | C44: https://www.kea-bw.de/nachhaltige-mobilitaet/wissensportal/statusbericht-nachhaltige-mobilitaet/carsharing | D44: KEA Klimaschutz- und Energieagentur Baden-Württemberg GmbH | E44: KEA-BW | G44: =IF(VLOOKUP($A44,Namen!$B$1:$G$18,2,0)="x","x","") -> x | H44: =IF(VLOOKUP($A44,Namen!$B$1:$G$18,3,0)="x","x","") | I44: =IF(VLOOKUP($A44,Namen!$B$1:$G$18,4,0)="x","x","") -> x | J44: =IF(VLOOKUP($A44,Namen!$B$1:$G$18,5,0)="x","x","") | K44: =IF(VLOOKUP($A44,Namen!$B$1:$G$18,6,0)="x","x","") -> x
A45: Sharing | B45: - | C45: https://www.mobidata-bw.de/ | D45: MobiDataBW | E45: MobiDataBW | G45: =IF(VLOOKUP($A45,Namen!$B$1:$G$18,2,0)="x","x","") -> x | H45: =IF(VLOOKUP($A45,Namen!$B$1:$G$18,3,0)="x","x","") | I45: =IF(VLOOKUP($A45,Namen!$B$1:$G$18,4,0)="x","x","") -> x | J45: =IF(VLOOKUP($A45,Namen!$B$1:$G$18,5,0)="x","x","") | K45: =IF(VLOOKUP($A45,Namen!$B$1:$G$18,6,0)="x","x","") -> x
A46: Sonstige | B46: Bevölkerung | C46: https://www.daten-bw.de/ | D46: Ministerium des Inneren, für Digitalisierung und Kommunen Baden-Württemberg | E46: IM BW | G46: =IF(VLOOKUP($A46,Namen!$B$1:$G$18,2,0)="x","x","") | H46: =IF(VLOOKUP($A46,Namen!$B$1:$G$18,3,0)="x","x","") | I46: =IF(VLOOKUP($A46,Namen!$B$1:$G$18,4,0)="x","x","") | J46: =IF(VLOOKUP($A46,Namen!$B$1:$G$18,5,0)="x","x","") | K46: =IF(VLOOKUP($A46,Namen!$B$1:$G$18,6,0)="x","x","")
A47: Unfalldaten | B47: - | C47: https://www.bmv.de/SharedDocs/DE/Artikel/G/verkehr-in-zahlen.html | D47: Bundesministerium für Verkehr | E47: BMV | G47: =IF(VLOOKUP($A47,Namen!$B$1:$G$18,2,0)="x","x","") -> x | H47: =IF(VLOOKUP($A47,Namen!$B$1:$G$18,3,0)="x","x","") -> x | I47: =IF(VLOOKUP($A47,Namen!$B$1:$G$18,4,0)="x","x","") | J47: =IF(VLOOKUP($A47,Namen!$B$1:$G$18,5,0)="x","x","") | K47: =IF(VLOOKUP($A47,Namen!$B$1:$G$18,6,0)="x","x","") -> x
A48: Unfalldaten | B48: - | C48: https://www.kea-bw.de/nachhaltige-mobilitaet/wissensportal/statusbericht-nachhaltige-mobilitaet/verkehrssicherheit | D48: KEA Klimaschutz- und Energieagentur Baden-Württemberg GmbH | E48: KEA-BW | G48: =IF(VLOOKUP($A48,Namen!$B$1:$G$18,2,0)="x","x","") -> x | H48: =IF(VLOOKUP($A48,Namen!$B$1:$G$18,3,0)="x","x","") -> x | I48: =IF(VLOOKUP($A48,Namen!$B$1:$G$18,4,0)="x","x","") | J48: =IF(VLOOKUP($A48,Namen!$B$1:$G$18,5,0)="x","x","") | K48: =IF(VLOOKUP($A48,Namen!$B$1:$G$18,6,0)="x","x","") -> x
A49: Unfalldaten | B49: - | C49: https://unfallatlas.statistikportal.de/ | D49: Statistische Ämter des Bundes und der Länder | E49: Destatis | G49: =IF(VLOOKUP($A49,Namen!$B$1:$G$18,2,0)="x","x","") -> x | H49: =IF(VLOOKUP($A49,Namen!$B$1:$G$18,3,0)="x","x","") -> x | I49: =IF(VLOOKUP($A49,Namen!$B$1:$G$18,4,0)="x","x","") | J49: =IF(VLOOKUP($A49,Namen!$B$1:$G$18,5,0)="x","x","") | K49: =IF(VLOOKUP($A49,Namen!$B$1:$G$18,6,0)="x","x","") -> x
A50: Unfalldaten | B50: - | C50: https://www.regionalstatistik.de | D50: Statistische Ämter des Bundes und der Länder | E50: Destatis | G50: =IF(VLOOKUP($A50,Namen!$B$1:$G$18,2,0)="x","x","") -> x | H50: =IF(VLOOKUP($A50,Namen!$B$1:$G$18,3,0)="x","x","") -> x | I50: =IF(VLOOKUP($A50,Namen!$B$1:$G$18,4,0)="x","x","") | J50: =IF(VLOOKUP($A50,Namen!$B$1:$G$18,5,0)="x","x","") | K50: =IF(VLOOKUP($A50,Namen!$B$1:$G$18,6,0)="x","x","") -> x
A51: Zähldaten | B51: MIV | C51: https://www.bast.de/DE/Publikationen/Statistik/statistik-node.html | D51: Bundesanstalt für Straßen- und Verkehrswesen | E51: BaSt | G51: =IF(VLOOKUP($A51,Namen!$B$1:$G$18,2,0)="x","x","") -> x | H51: =IF(VLOOKUP($A51,Namen!$B$1:$G$18,3,0)="x","x","") -> x | I51: =IF(VLOOKUP($A51,Namen!$B$1:$G$18,4,0)="x","x","") -> x | J51: =IF(VLOOKUP($A51,Namen!$B$1:$G$18,5,0)="x","x","") -> x | K51: =IF(VLOOKUP($A51,Namen!$B$1:$G$18,6,0)="x","x","") -> x
A52: Zähldaten | B52: MIV | C52: https://umweltportal.baden-wuerttemberg.de/de/umweltdaten | D52: Landesanstalt für Umwelt Baden-Württemberg | E52: LUBW | G52: =IF(VLOOKUP($A52,Namen!$B$1:$G$18,2,0)="x","x","") -> x | H52: =IF(VLOOKUP($A52,Namen!$B$1:$G$18,3,0)="x","x","") -> x | I52: =IF(VLOOKUP($A52,Namen!$B$1:$G$18,4,0)="x","x","") -> x | J52: =IF(VLOOKUP($A52,Namen!$B$1:$G$18,5,0)="x","x","") -> x | K52: =IF(VLOOKUP($A52,Namen!$B$1:$G$18,6,0)="x","x","") -> x
... A62: Zulassungsdaten | B62: Zulassungsdaten | C62: https://www.kba.de | D62: Kraftfahrtbundesamt | E62: KBA | G62: =IF(VLOOKUP($A62,Namen!$B$1:$G$18,2,0)="x","x","") -> x | H62: =IF(VLOOKUP($A62,Namen!$B$1:$G$18,3,0)="x","x","") -> x | I62: =IF(VLOOKUP($A62,Namen!$B$1:$G$18,4,0)="x","x","") -> x | J62: =IF(VLOOKUP($A62,Namen!$B$1:$G$18,5,0)="x","x","") | K62: =IF(VLOOKUP($A62,Namen!$B$1:$G$18,6,0)="x","x","") -> x

Sheet Namen
A1: Datenart | C1: Status quo-Analyse | D1: Leitziele | E1: Eingangsdaten Verkehrsmodell | F1: Kalibrierung Verkehrsmodell | G1: Monitoring | H1: Untergruppe | I1: -
B2: Baustellen | E2: x | I2: Beförderungsleistung
B3: Beförderungsleistung | C3: x | D3: x | E3: x | F3: x | G3: x | I3: Bewohnerparken
B4: Emissionen | C4: x | D4: x | G4: x | I4: Parkgebühren
B5: Fahrleistung | C5: x | D5: x | E5: x | F5: x | G5: x | I5: Parkplätze
B6: Fahrplandaten | E6: x | I6: Fuß
B7: Immissionen | C7: x | D7: x | G7: x | I7: Rad
B8: Karten | C8: x | E8: x | I8: MIV
B9: Klimaziele | C9: x | D9: x | G9: x | I9: ÖPNV
B10: Ladeinfrastruktur | C10: x | G10: x | I10: Pkw
B11: Modal Split | C11: x | D11: x | E11: x | F11: x | G11: x | I11: LNF
B12: Parken | C12: x | E12: x | I12: SNF
B13: Pendlerdaten | C13: x | E13: x | F13: x | I13: LBus
B14: Sharing | C14: x | E14: x | G14: x | I14: CO2
B15: Sonstige | I15: Luftqualität
B16: Unfalldaten | C16: x | D16: x | G16: x | I16: Lärm
B17: Zähldaten | C17: x | D17: x | E17: x | F17: x | G17: x | I17: Straßenkarten
B18: Zulassungsdaten | C18: x | D18: x | E18: x | G18: x | I18: Raumtypologien
I19: Zulassungsdaten
I20: Bestandsdaten
I21: Bevölkerung
